Package: alabaster.schemas Version: 1.6.0 Command: /Library/Frameworks/R.framework/Resources/bin/R CMD check --install=check:alabaster.schemas.install-out.txt --library=/Library/Frameworks/R.framework/Resources/library --no-vignettes --timings alabaster.schemas_1.6.0.tar.gz StartedAt: 2025-03-31 23:12:32 -0400 (Mon, 31 Mar 2025) EndedAt: 2025-03-31 23:12:55 -0400 (Mon, 31 Mar 2025) EllapsedTime: 22.1 seconds RetCode: 0 Status: OK CheckDir: alabaster.schemas.Rcheck Warnings: 0