Package: alabaster.sce Version: 1.6.0 Command: /home/biocbuild/R/R/bin/R CMD INSTALL alabaster.sce StartedAt: 2025-03-31 21:04:37 -0000 (Mon, 31 Mar 2025) EndedAt: 2025-03-31 21:05:10 -0000 (Mon, 31 Mar 2025) EllapsedTime: 33.0 seconds RetCode: 0 Status: OK