Package: alabaster.sce Version: 1.6.0 Command: /home/biocbuild/R/R/bin/R CMD check --install=check:alabaster.sce.install-out.txt --library=/home/biocbuild/R/R/site-library --no-vignettes --timings alabaster.sce_1.6.0.tar.gz StartedAt: 2025-04-01 03:47:05 -0000 (Tue, 01 Apr 2025) EndedAt: 2025-04-01 03:52:01 -0000 (Tue, 01 Apr 2025) EllapsedTime: 296.6 seconds RetCode: 0 Status: OK CheckDir: alabaster.sce.Rcheck Warnings: 0