Package: alabaster.sce Version: 1.6.0 Command: /home/biocbuild/R/R/bin/R CMD build --keep-empty-dirs --no-resave-data alabaster.sce StartedAt: 2025-03-31 21:19:00 -0000 (Mon, 31 Mar 2025) EndedAt: 2025-03-31 21:19:45 -0000 (Mon, 31 Mar 2025) EllapsedTime: 45.0 seconds RetCode: 0 Status: OK PackageFile: alabaster.sce_1.6.0.tar.gz PackageFileSize: 244.1 KiB