Package: alabaster.sce Version: 1.6.0 Command: F:\biocbuild\bbs-3.20-bioc\R\bin\R.exe CMD check --no-multiarch --install=check:alabaster.sce.install-out.txt --library=F:\biocbuild\bbs-3.20-bioc\R\library --no-vignettes --timings alabaster.sce_1.6.0.tar.gz StartedAt: 2025-03-31 22:49:42 -0400 (Mon, 31 Mar 2025) EndedAt: 2025-03-31 22:53:52 -0400 (Mon, 31 Mar 2025) EllapsedTime: 249.8 seconds RetCode: 0 Status: OK CheckDir: alabaster.sce.Rcheck Warnings: 0