Package: alabaster.ranges Version: 1.6.0 Command: /home/biocbuild/R/R/bin/R CMD build --keep-empty-dirs --no-resave-data alabaster.ranges StartedAt: 2025-03-31 21:18:47 -0000 (Mon, 31 Mar 2025) EndedAt: 2025-03-31 21:19:07 -0000 (Mon, 31 Mar 2025) EllapsedTime: 20.0 seconds RetCode: 0 Status: OK PackageFile: alabaster.ranges_1.6.0.tar.gz PackageFileSize: 250.3 KiB