Package: alabaster.ranges Version: 1.6.0 Command: /Library/Frameworks/R.framework/Resources/bin/R CMD build --keep-empty-dirs --no-resave-data alabaster.ranges StartedAt: 2025-03-31 16:50:08 -0400 (Mon, 31 Mar 2025) EndedAt: 2025-03-31 16:50:44 -0400 (Mon, 31 Mar 2025) EllapsedTime: 36.6 seconds RetCode: 0 Status: OK PackageFile: alabaster.ranges_1.6.0.tar.gz PackageFileSize: 225.5 KiB