Package: alabaster.ranges Version: 1.6.0 Command: /Library/Frameworks/R.framework/Resources/bin/R CMD INSTALL alabaster.ranges StartedAt: 2025-03-31 15:27:16 -0400 (Mon, 31 Mar 2025) EndedAt: 2025-03-31 15:27:29 -0400 (Mon, 31 Mar 2025) EllapsedTime: 13.0 seconds RetCode: 0 Status: OK