Package: alabaster.mae Version: 1.6.0 Command: chmod a+r alabaster.mae -R && F:\biocbuild\bbs-3.20-bioc\R\bin\R.exe CMD build --keep-empty-dirs --no-resave-data alabaster.mae StartedAt: 2025-03-31 17:17:13 -0400 (Mon, 31 Mar 2025) EndedAt: 2025-03-31 17:18:07 -0400 (Mon, 31 Mar 2025) EllapsedTime: 53.7 seconds RetCode: 0 Status: OK PackageFile: alabaster.mae_1.6.0.tar.gz PackageFileSize: 222.6 KiB