Package: alabaster.mae Version: 1.6.0 Command: /Library/Frameworks/R.framework/Resources/bin/R CMD INSTALL alabaster.mae StartedAt: 2025-03-31 16:30:24 -0400 (Mon, 31 Mar 2025) EndedAt: 2025-03-31 16:31:19 -0400 (Mon, 31 Mar 2025) EllapsedTime: 55.0 seconds RetCode: 0 Status: OK