Package: alabaster.files Version: 1.4.0 Command: F:\biocbuild\bbs-3.20-bioc\R\bin\R.exe CMD check --no-multiarch --install=check:alabaster.files.install-out.txt --library=F:\biocbuild\bbs-3.20-bioc\R\library --no-vignettes --timings alabaster.files_1.4.0.tar.gz StartedAt: 2025-03-31 22:49:30 -0400 (Mon, 31 Mar 2025) EndedAt: 2025-03-31 22:51:49 -0400 (Mon, 31 Mar 2025) EllapsedTime: 139.0 seconds RetCode: 0 Status: OK CheckDir: alabaster.files.Rcheck Warnings: 0