Package: airpart Version: 1.14.0 Command: /home/biocbuild/R/R/bin/R CMD build --keep-empty-dirs --no-resave-data airpart StartedAt: 2025-03-31 21:18:05 -0000 (Mon, 31 Mar 2025) EndedAt: 2025-03-31 21:19:50 -0000 (Mon, 31 Mar 2025) EllapsedTime: 105.1 seconds RetCode: 0 Status: OK PackageFile: airpart_1.14.0.tar.gz PackageFileSize: 781.8 KiB