Package: airpart Version: 1.14.0 Command: rm -rf airpart.buildbin-libdir && mkdir airpart.buildbin-libdir && F:\biocbuild\bbs-3.20-bioc\R\bin\R.exe CMD INSTALL --build --library=airpart.buildbin-libdir airpart_1.14.0.tar.gz StartedAt: 2025-04-01 07:38:28 -0400 (Tue, 01 Apr 2025) EndedAt: 2025-04-01 07:39:24 -0400 (Tue, 01 Apr 2025) EllapsedTime: 55.5 seconds RetCode: 0 Status: OK PackageFile: airpart_1.14.0.zip PackageFileSize: 804.3 KiB