Package: airpart Version: 1.14.0 Command: /Library/Frameworks/R.framework/Resources/bin/R CMD INSTALL airpart StartedAt: 2025-03-31 16:26:49 -0400 (Mon, 31 Mar 2025) EndedAt: 2025-03-31 16:27:52 -0400 (Mon, 31 Mar 2025) EllapsedTime: 63.9 seconds RetCode: 0 Status: OK