Package: airpart Version: 1.14.0 Command: /Library/Frameworks/R.framework/Resources/bin/R CMD check --install=check:airpart.install-out.txt --library=/Library/Frameworks/R.framework/Resources/library --no-vignettes --timings airpart_1.14.0.tar.gz StartedAt: 2025-03-31 23:10:17 -0400 (Mon, 31 Mar 2025) EndedAt: 2025-03-31 23:20:14 -0400 (Mon, 31 Mar 2025) EllapsedTime: 596.9 seconds RetCode: 0 Status: OK CheckDir: airpart.Rcheck Warnings: 0