Package: airpart Version: 1.14.0 Command: rm -rf airpart.buildbin-libdir && mkdir airpart.buildbin-libdir && /Users/biocbuild/BBS/utils/build-universal.sh airpart_1.14.0.tar.gz /Library/Frameworks/R.framework/Resources/bin/R airpart.buildbin-libdir StartedAt: 2025-04-02 13:14:31 -0400 (Wed, 02 Apr 2025) EndedAt: 2025-04-02 13:15:12 -0400 (Wed, 02 Apr 2025) EllapsedTime: 41.0 seconds RetCode: 0 Status: OK PackageFile: airpart_1.14.0.tgz PackageFileSize: 1.578 MiB