Package: aggregateBioVar Version: 1.16.0 Command: chmod a+r aggregateBioVar -R && F:\biocbuild\bbs-3.20-bioc\R\bin\R.exe CMD build --keep-empty-dirs --no-resave-data aggregateBioVar StartedAt: 2025-03-31 17:16:28 -0400 (Mon, 31 Mar 2025) EndedAt: 2025-03-31 17:18:41 -0400 (Mon, 31 Mar 2025) EllapsedTime: 132.5 seconds RetCode: 0 Status: OK PackageFile: aggregateBioVar_1.16.0.tar.gz PackageFileSize: 990 KiB