Package: aggregateBioVar Version: 1.16.0 Command: /Library/Frameworks/R.framework/Resources/bin/R CMD check --install=check:aggregateBioVar.install-out.txt --library=/Library/Frameworks/R.framework/Resources/library --no-vignettes --timings aggregateBioVar_1.16.0.tar.gz StartedAt: 2025-04-01 10:22:46 -0400 (Tue, 01 Apr 2025) EndedAt: 2025-04-01 10:25:53 -0400 (Tue, 01 Apr 2025) EllapsedTime: 187.3 seconds RetCode: 0 Status: OK CheckDir: aggregateBioVar.Rcheck Warnings: 0