Package: affylmGUI Version: 1.80.0 Command: F:\biocbuild\bbs-3.20-bioc\R\bin\R.exe CMD INSTALL affylmGUI StartedAt: 2025-03-31 16:22:14 -0400 (Mon, 31 Mar 2025) EndedAt: 2025-03-31 16:23:13 -0400 (Mon, 31 Mar 2025) EllapsedTime: 59.1 seconds RetCode: 0 Status: OK