Package: affylmGUI Version: 1.80.0 Command: /home/biocbuild/bbs-3.20-bioc/R/bin/R CMD INSTALL affylmGUI StartedAt: 2025-03-31 15:28:41 -0400 (Mon, 31 Mar 2025) EndedAt: 2025-03-31 15:29:00 -0400 (Mon, 31 Mar 2025) EllapsedTime: 19.7 seconds RetCode: 0 Status: OK