Package: affylmGUI Version: 1.80.0 Command: /Library/Frameworks/R.framework/Resources/bin/R CMD INSTALL affylmGUI StartedAt: 2025-03-31 15:34:35 -0400 (Mon, 31 Mar 2025) EndedAt: 2025-03-31 15:35:28 -0400 (Mon, 31 Mar 2025) EllapsedTime: 52.8 seconds RetCode: 0 Status: OK