Package: affylmGUI Version: 1.80.0 Command: rm -rf affylmGUI.buildbin-libdir && mkdir affylmGUI.buildbin-libdir && /Users/biocbuild/BBS/utils/build-universal.sh affylmGUI_1.80.0.tar.gz /Library/Frameworks/R.framework/Resources/bin/R affylmGUI.buildbin-libdir StartedAt: 2025-04-01 11:23:02 -0400 (Tue, 01 Apr 2025) EndedAt: 2025-04-01 11:23:58 -0400 (Tue, 01 Apr 2025) EllapsedTime: 56.4 seconds RetCode: 0 Status: OK PackageFile: affylmGUI_1.80.0.tgz PackageFileSize: 2.142 MiB