Package: affyio Version: 1.76.0 Command: /Library/Frameworks/R.framework/Resources/bin/R CMD check --install=check:affyio.install-out.txt --library=/Library/Frameworks/R.framework/Resources/library --no-vignettes --timings affyio_1.76.0.tar.gz StartedAt: 2025-03-31 23:08:40 -0400 (Mon, 31 Mar 2025) EndedAt: 2025-03-31 23:09:13 -0400 (Mon, 31 Mar 2025) EllapsedTime: 33.1 seconds RetCode: 0 Status: WARNINGS CheckDir: affyio.Rcheck Warnings: 2