Package: affyio Version: 1.76.0 Command: /Library/Frameworks/R.framework/Resources/bin/R CMD check --install=check:affyio.install-out.txt --library=/Library/Frameworks/R.framework/Resources/library --no-vignettes --timings affyio_1.76.0.tar.gz StartedAt: 2025-04-01 10:20:55 -0400 (Tue, 01 Apr 2025) EndedAt: 2025-04-01 10:21:15 -0400 (Tue, 01 Apr 2025) EllapsedTime: 20.4 seconds RetCode: 0 Status: WARNINGS CheckDir: affyio.Rcheck Warnings: 2