Package: affycomp Version: 1.82.0 Command: F:\biocbuild\bbs-3.20-bioc\R\bin\R.exe CMD INSTALL affycomp StartedAt: 2025-03-31 15:25:41 -0400 (Mon, 31 Mar 2025) EndedAt: 2025-03-31 15:26:02 -0400 (Mon, 31 Mar 2025) EllapsedTime: 20.9 seconds RetCode: 0 Status: OK