Package: affycomp Version: 1.82.0 Command: chmod a+r affycomp -R && F:\biocbuild\bbs-3.20-bioc\R\bin\R.exe CMD build --keep-empty-dirs --no-resave-data affycomp StartedAt: 2025-03-31 17:15:56 -0400 (Mon, 31 Mar 2025) EndedAt: 2025-03-31 17:16:33 -0400 (Mon, 31 Mar 2025) EllapsedTime: 36.4 seconds RetCode: 0 Status: OK PackageFile: affycomp_1.82.0.tar.gz PackageFileSize: 7.877 MiB