Package: affycomp Version: 1.82.0 Command: /home/biocbuild/bbs-3.20-bioc/R/bin/R CMD build --keep-empty-dirs --no-resave-data --md5 affycomp StartedAt: 2025-03-31 16:07:53 -0400 (Mon, 31 Mar 2025) EndedAt: 2025-03-31 16:08:03 -0400 (Mon, 31 Mar 2025) EllapsedTime: 10.0 seconds RetCode: 0 Status: OK PackageFile: affycomp_1.82.0.tar.gz PackageFileSize: 7.981 MiB