Package: affycomp Version: 1.82.0 Command: /Library/Frameworks/R.framework/Resources/bin/R CMD build --keep-empty-dirs --no-resave-data affycomp StartedAt: 2025-03-31 18:27:37 -0400 (Mon, 31 Mar 2025) EndedAt: 2025-03-31 18:27:45 -0400 (Mon, 31 Mar 2025) EllapsedTime: 8.5 seconds RetCode: 0 Status: OK PackageFile: affycomp_1.82.0.tar.gz PackageFileSize: 7.98 MiB