Package: affyPLM Version: 1.82.0 Command: /home/biocbuild/R/R/bin/R CMD INSTALL affyPLM StartedAt: 2025-03-31 20:21:55 -0000 (Mon, 31 Mar 2025) EndedAt: 2025-03-31 20:22:22 -0000 (Mon, 31 Mar 2025) EllapsedTime: 26.5 seconds RetCode: 0 Status: OK