Package: affyPLM Version: 1.82.0 Command: chmod a+r affyPLM -R && F:\biocbuild\bbs-3.20-bioc\R\bin\R.exe CMD build --keep-empty-dirs --no-resave-data affyPLM StartedAt: 2025-03-31 17:16:17 -0400 (Mon, 31 Mar 2025) EndedAt: 2025-03-31 17:20:18 -0400 (Mon, 31 Mar 2025) EllapsedTime: 241.0 seconds RetCode: 0 Status: OK PackageFile: affyPLM_1.82.0.tar.gz PackageFileSize: 4.565 MiB