Package: affyILM Version: 1.58.0 Command: /home/biocbuild/R/R/bin/R CMD INSTALL affyILM StartedAt: 2025-03-31 20:21:03 -0000 (Mon, 31 Mar 2025) EndedAt: 2025-03-31 20:21:18 -0000 (Mon, 31 Mar 2025) EllapsedTime: 15.8 seconds RetCode: 0 Status: OK