Package: affyILM Version: 1.58.0 Command: /home/biocbuild/R/R/bin/R CMD check --install=check:affyILM.install-out.txt --library=/home/biocbuild/R/R/site-library --no-vignettes --timings affyILM_1.58.0.tar.gz StartedAt: 2025-04-01 03:44:26 -0000 (Tue, 01 Apr 2025) EndedAt: 2025-04-01 03:46:27 -0000 (Tue, 01 Apr 2025) EllapsedTime: 121.3 seconds RetCode: 0 Status: OK CheckDir: affyILM.Rcheck Warnings: 0