Package: affyILM Version: 1.58.0 Command: /home/biocbuild/R/R/bin/R CMD build --keep-empty-dirs --no-resave-data affyILM StartedAt: 2025-03-31 21:17:26 -0000 (Mon, 31 Mar 2025) EndedAt: 2025-03-31 21:18:16 -0000 (Mon, 31 Mar 2025) EllapsedTime: 50.0 seconds RetCode: 0 Status: OK PackageFile: affyILM_1.58.0.tar.gz PackageFileSize: 226.2 KiB