Package: affyContam Version: 1.64.0 Command: /Library/Frameworks/R.framework/Resources/bin/R CMD INSTALL affyContam StartedAt: 2025-03-31 15:09:09 -0400 (Mon, 31 Mar 2025) EndedAt: 2025-03-31 15:09:34 -0400 (Mon, 31 Mar 2025) EllapsedTime: 25.0 seconds RetCode: 0 Status: OK