Package: affy Version: 1.84.0 Command: /Library/Frameworks/R.framework/Resources/bin/R CMD INSTALL affy StartedAt: 2025-03-31 15:09:45 -0400 (Mon, 31 Mar 2025) EndedAt: 2025-03-31 15:09:57 -0400 (Mon, 31 Mar 2025) EllapsedTime: 11.6 seconds RetCode: 0 Status: OK