Package: adverSCarial Version: 1.4.0 Command: /Library/Frameworks/R.framework/Resources/bin/R CMD INSTALL adverSCarial StartedAt: 2025-03-31 15:11:22 -0400 (Mon, 31 Mar 2025) EndedAt: 2025-03-31 15:11:50 -0400 (Mon, 31 Mar 2025) EllapsedTime: 28.2 seconds RetCode: 0 Status: OK