Package: acde Version: 1.36.0 Command: F:\biocbuild\bbs-3.20-bioc\R\bin\R.exe CMD INSTALL acde StartedAt: 2025-03-31 15:21:46 -0400 (Mon, 31 Mar 2025) EndedAt: 2025-03-31 15:21:55 -0400 (Mon, 31 Mar 2025) EllapsedTime: 9.3 seconds RetCode: 0 Status: OK