Package: acde Version: 1.36.0 Command: /home/biocbuild/bbs-3.20-bioc/R/bin/R CMD check --install=check:acde.install-out.txt --library=/home/biocbuild/bbs-3.20-bioc/R/site-library --timings acde_1.36.0.tar.gz StartedAt: 2025-03-31 19:44:31 -0400 (Mon, 31 Mar 2025) EndedAt: 2025-03-31 19:45:37 -0400 (Mon, 31 Mar 2025) EllapsedTime: 65.1 seconds RetCode: 0 Status: OK CheckDir: acde.Rcheck Warnings: 0