Package: acde Version: 1.36.0 Command: /Library/Frameworks/R.framework/Resources/bin/R CMD check --install=check:acde.install-out.txt --library=/Library/Frameworks/R.framework/Resources/library --no-vignettes --timings acde_1.36.0.tar.gz StartedAt: 2025-04-01 10:14:06 -0400 (Tue, 01 Apr 2025) EndedAt: 2025-04-01 10:15:13 -0400 (Tue, 01 Apr 2025) EllapsedTime: 66.8 seconds RetCode: 0 Status: OK CheckDir: acde.Rcheck Warnings: 0