Package: aCGH Version: 1.84.0 Command: /home/biocbuild/R/R/bin/R CMD build --keep-empty-dirs --no-resave-data aCGH StartedAt: 2025-03-31 21:16:42 -0000 (Mon, 31 Mar 2025) EndedAt: 2025-03-31 21:17:17 -0000 (Mon, 31 Mar 2025) EllapsedTime: 35.0 seconds RetCode: 0 Status: OK PackageFile: aCGH_1.84.0.tar.gz PackageFileSize: 2.212 MiB