Package: aCGH Version: 1.84.0 Command: /Library/Frameworks/R.framework/Resources/bin/R CMD build --keep-empty-dirs --no-resave-data aCGH StartedAt: 2025-03-31 18:24:19 -0400 (Mon, 31 Mar 2025) EndedAt: 2025-03-31 18:24:56 -0400 (Mon, 31 Mar 2025) EllapsedTime: 36.8 seconds RetCode: 0 Status: OK PackageFile: aCGH_1.84.0.tar.gz PackageFileSize: 2.219 MiB