Package: a4Reporting Version: 1.54.0 Command: F:\biocbuild\bbs-3.20-bioc\R\bin\R.exe CMD INSTALL a4Reporting StartedAt: 2025-03-31 15:22:30 -0400 (Mon, 31 Mar 2025) EndedAt: 2025-03-31 15:22:49 -0400 (Mon, 31 Mar 2025) EllapsedTime: 18.9 seconds RetCode: 0 Status: OK