Package: a4Reporting Version: 1.54.0 Command: /Library/Frameworks/R.framework/Resources/bin/R CMD build --keep-empty-dirs --no-resave-data a4Reporting StartedAt: 2024-11-19 15:53:03 -0500 (Tue, 19 Nov 2024) EndedAt: 2024-11-19 15:53:12 -0500 (Tue, 19 Nov 2024) EllapsedTime: 9.2 seconds RetCode: 0 Status: OK PackageFile: a4Reporting_1.54.0.tar.gz PackageFileSize: 292.6 KiB