Package: a4Reporting Version: 1.54.0 Command: rm -rf a4Reporting.buildbin-libdir && mkdir a4Reporting.buildbin-libdir && /Users/biocbuild/BBS/utils/build-universal.sh a4Reporting_1.54.0.tar.gz /Library/Frameworks/R.framework/Resources/bin/R a4Reporting.buildbin-libdir StartedAt: 2025-04-02 13:12:40 -0400 (Wed, 02 Apr 2025) EndedAt: 2025-04-02 13:12:45 -0400 (Wed, 02 Apr 2025) EllapsedTime: 4.6 seconds RetCode: 0 Status: OK PackageFile: a4Reporting_1.54.0.tgz PackageFileSize: 431.1 KiB