Package: a4Preproc Version: 1.54.0 Command: /Library/Frameworks/R.framework/Resources/bin/R CMD check --install=check:a4Preproc.install-out.txt --library=/Library/Frameworks/R.framework/Resources/library --no-vignettes --timings a4Preproc_1.54.0.tar.gz StartedAt: 2025-03-31 23:07:30 -0400 (Mon, 31 Mar 2025) EndedAt: 2025-03-31 23:08:39 -0400 (Mon, 31 Mar 2025) EllapsedTime: 68.7 seconds RetCode: 0 Status: OK CheckDir: a4Preproc.Rcheck Warnings: 0