Package: a4Preproc Version: 1.54.0 Command: /Library/Frameworks/R.framework/Resources/bin/R CMD check --install=check:a4Preproc.install-out.txt --library=/Library/Frameworks/R.framework/Resources/library --no-vignettes --timings a4Preproc_1.54.0.tar.gz StartedAt: 2025-04-01 10:13:13 -0400 (Tue, 01 Apr 2025) EndedAt: 2025-04-01 10:13:50 -0400 (Tue, 01 Apr 2025) EllapsedTime: 37.1 seconds RetCode: 0 Status: OK CheckDir: a4Preproc.Rcheck Warnings: 0