Package: a4 Version: 1.54.0 Command: F:\biocbuild\bbs-3.20-bioc\R\bin\R.exe CMD INSTALL a4 StartedAt: 2025-03-31 16:44:15 -0400 (Mon, 31 Mar 2025) EndedAt: 2025-03-31 16:44:36 -0400 (Mon, 31 Mar 2025) EllapsedTime: 21.5 seconds RetCode: 0 Status: OK