Package: a4 Version: 1.54.0 Command: /Library/Frameworks/R.framework/Resources/bin/R CMD build --keep-empty-dirs --no-resave-data a4 StartedAt: 2025-03-31 18:23:25 -0400 (Mon, 31 Mar 2025) EndedAt: 2025-03-31 18:26:57 -0400 (Mon, 31 Mar 2025) EllapsedTime: 212.1 seconds RetCode: 0 Status: OK PackageFile: a4_1.54.0.tar.gz PackageFileSize: 1.189 MiB