Package: Xeva Version: 1.22.1 Command: /home/biocbuild/R/R/bin/R CMD check --install=check:Xeva.install-out.txt --library=/home/biocbuild/R/R/site-library --no-vignettes --timings Xeva_1.22.1.tar.gz StartedAt: 2025-04-01 11:48:06 -0000 (Tue, 01 Apr 2025) EndedAt: 2025-04-01 11:53:19 -0000 (Tue, 01 Apr 2025) EllapsedTime: 313.6 seconds RetCode: 0 Status: OK CheckDir: Xeva.Rcheck Warnings: 0