Package: Xeva Version: 1.22.1 Command: /home/biocbuild/R/R/bin/R CMD build --keep-empty-dirs --no-resave-data Xeva StartedAt: 2025-04-01 03:30:53 -0000 (Tue, 01 Apr 2025) EndedAt: 2025-04-01 03:32:07 -0000 (Tue, 01 Apr 2025) EllapsedTime: 74.1 seconds RetCode: 0 Status: OK PackageFile: Xeva_1.22.1.tar.gz PackageFileSize: 1.563 MiB